BEGIN:VCALENDAR
VERSION:2.0
PRODID:-//Prostovoljno gasilsko društvo Komenda - ECPv6.15.20//NONSGML v1.0//EN
CALSCALE:GREGORIAN
METHOD:PUBLISH
X-WR-CALNAME:Prostovoljno gasilsko društvo Komenda
X-ORIGINAL-URL:https://www.pgd-komenda.si
X-WR-CALDESC:Dogodki za Prostovoljno gasilsko društvo Komenda
REFRESH-INTERVAL;VALUE=DURATION:PT1H
X-Robots-Tag:noindex
X-PUBLISHED-TTL:PT1H
BEGIN:VTIMEZONE
TZID:Europe/Ljubljana
BEGIN:DAYLIGHT
TZOFFSETFROM:+0100
TZOFFSETTO:+0200
TZNAME:CEST
DTSTART:20150329T010000
END:DAYLIGHT
BEGIN:STANDARD
TZOFFSETFROM:+0200
TZOFFSETTO:+0100
TZNAME:CET
DTSTART:20151025T010000
END:STANDARD
BEGIN:DAYLIGHT
TZOFFSETFROM:+0100
TZOFFSETTO:+0200
TZNAME:CEST
DTSTART:20160327T010000
END:DAYLIGHT
BEGIN:STANDARD
TZOFFSETFROM:+0200
TZOFFSETTO:+0100
TZNAME:CET
DTSTART:20161030T010000
END:STANDARD
BEGIN:DAYLIGHT
TZOFFSETFROM:+0100
TZOFFSETTO:+0200
TZNAME:CEST
DTSTART:20170326T010000
END:DAYLIGHT
BEGIN:STANDARD
TZOFFSETFROM:+0200
TZOFFSETTO:+0100
TZNAME:CET
DTSTART:20171029T010000
END:STANDARD
BEGIN:DAYLIGHT
TZOFFSETFROM:+0100
TZOFFSETTO:+0200
TZNAME:CEST
DTSTART:20180325T010000
END:DAYLIGHT
BEGIN:STANDARD
TZOFFSETFROM:+0200
TZOFFSETTO:+0100
TZNAME:CET
DTSTART:20181028T010000
END:STANDARD
BEGIN:DAYLIGHT
TZOFFSETFROM:+0100
TZOFFSETTO:+0200
TZNAME:CEST
DTSTART:20190331T010000
END:DAYLIGHT
BEGIN:STANDARD
TZOFFSETFROM:+0200
TZOFFSETTO:+0100
TZNAME:CET
DTSTART:20191027T010000
END:STANDARD
BEGIN:DAYLIGHT
TZOFFSETFROM:+0100
TZOFFSETTO:+0200
TZNAME:CEST
DTSTART:20200329T010000
END:DAYLIGHT
BEGIN:STANDARD
TZOFFSETFROM:+0200
TZOFFSETTO:+0100
TZNAME:CET
DTSTART:20201025T010000
END:STANDARD
BEGIN:DAYLIGHT
TZOFFSETFROM:+0100
TZOFFSETTO:+0200
TZNAME:CEST
DTSTART:20210328T010000
END:DAYLIGHT
BEGIN:STANDARD
TZOFFSETFROM:+0200
TZOFFSETTO:+0100
TZNAME:CET
DTSTART:20211031T010000
END:STANDARD
BEGIN:DAYLIGHT
TZOFFSETFROM:+0100
TZOFFSETTO:+0200
TZNAME:CEST
DTSTART:20220327T010000
END:DAYLIGHT
BEGIN:STANDARD
TZOFFSETFROM:+0200
TZOFFSETTO:+0100
TZNAME:CET
DTSTART:20221030T010000
END:STANDARD
BEGIN:DAYLIGHT
TZOFFSETFROM:+0100
TZOFFSETTO:+0200
TZNAME:CEST
DTSTART:20230326T010000
END:DAYLIGHT
BEGIN:STANDARD
TZOFFSETFROM:+0200
TZOFFSETTO:+0100
TZNAME:CET
DTSTART:20231029T010000
END:STANDARD
BEGIN:DAYLIGHT
TZOFFSETFROM:+0100
TZOFFSETTO:+0200
TZNAME:CEST
DTSTART:20240331T010000
END:DAYLIGHT
BEGIN:STANDARD
TZOFFSETFROM:+0200
TZOFFSETTO:+0100
TZNAME:CET
DTSTART:20241027T010000
END:STANDARD
END:VTIMEZONE
BEGIN:VTIMEZONE
TZID:Africa/Abidjan
BEGIN:STANDARD
TZOFFSETFROM:+0000
TZOFFSETTO:+0000
TZNAME:GMT
DTSTART:20150101T000000
END:STANDARD
END:VTIMEZONE
BEGIN:VTIMEZONE
TZID:Europe/Belgrade
BEGIN:DAYLIGHT
TZOFFSETFROM:+0100
TZOFFSETTO:+0200
TZNAME:CEST
DTSTART:20150329T010000
END:DAYLIGHT
BEGIN:STANDARD
TZOFFSETFROM:+0200
TZOFFSETTO:+0100
TZNAME:CET
DTSTART:20151025T010000
END:STANDARD
BEGIN:DAYLIGHT
TZOFFSETFROM:+0100
TZOFFSETTO:+0200
TZNAME:CEST
DTSTART:20160327T010000
END:DAYLIGHT
BEGIN:STANDARD
TZOFFSETFROM:+0200
TZOFFSETTO:+0100
TZNAME:CET
DTSTART:20161030T010000
END:STANDARD
BEGIN:DAYLIGHT
TZOFFSETFROM:+0100
TZOFFSETTO:+0200
TZNAME:CEST
DTSTART:20170326T010000
END:DAYLIGHT
BEGIN:STANDARD
TZOFFSETFROM:+0200
TZOFFSETTO:+0100
TZNAME:CET
DTSTART:20171029T010000
END:STANDARD
END:VTIMEZONE
BEGIN:VEVENT
DTSTART;TZID=Europe/Ljubljana:20230127T180000
DTEND;TZID=Europe/Ljubljana:20230127T200000
DTSTAMP:20260421T043114
CREATED:20230118T100259Z
LAST-MODIFIED:20230118T100259Z
UID:14140-1674842400-1674849600@www.pgd-komenda.si
SUMMARY:129. REDNI (VOLILNI) OBČNI ZBOR
DESCRIPTION:VABILO
URL:https://www.pgd-komenda.si/event/129-redni-volilni-obcni-zbor/
LOCATION:GASILSKI DOM\, GLAVARJEVA CESTA 65\, KOMENDA
END:VEVENT
BEGIN:VEVENT
DTSTART;TZID=Africa/Abidjan:20191123T160000
DTEND;TZID=Africa/Abidjan:20191123T210000
DTSTAMP:20260421T043114
CREATED:20191104T195810Z
LAST-MODIFIED:20191104T195810Z
UID:13970-1574524800-1574542800@www.pgd-komenda.si
SUMMARY:TEKMOVANJE V SPAJANJU SESALNEGA VODA
DESCRIPTION:Razpis
URL:https://www.pgd-komenda.si/event/tekmovanje-v-spajanju-sesalnega-voda/
END:VEVENT
BEGIN:VEVENT
DTSTART;TZID=Africa/Abidjan:20190126T180000
DTEND;TZID=Africa/Abidjan:20190126T200000
DTSTAMP:20260421T043114
CREATED:20190108T223332Z
LAST-MODIFIED:20190108T223512Z
UID:13834-1548525600-1548532800@www.pgd-komenda.si
SUMMARY:125. OBČNI ZBOR PGD KOMENDA
DESCRIPTION:
URL:https://www.pgd-komenda.si/event/125-obcni-zbor-pgd-komenda/
LOCATION:GASILSKI DOM\, GLAVARJEVA CESTA 65\, KOMENDA
END:VEVENT
BEGIN:VEVENT
DTSTART;TZID=Africa/Abidjan:20180414T090000
DTEND;TZID=Africa/Abidjan:20180414T133000
DTSTAMP:20260421T043114
CREATED:20180401T071638Z
LAST-MODIFIED:20180401T071638Z
UID:13492-1523696400-1523712600@www.pgd-komenda.si
SUMMARY:Posvet članic Regije Ljubljana III.
DESCRIPTION:Vabilo na posvet
URL:https://www.pgd-komenda.si/event/posvet-clanic-regije-ljubljana-iii/
LOCATION:GASILSKI DOM\, GLAVARJEVA CESTA 65\, KOMENDA
END:VEVENT
BEGIN:VEVENT
DTSTART;TZID=Africa/Abidjan:20180316T180000
DTEND;TZID=Africa/Abidjan:20180316T193000
DTSTAMP:20260421T043114
CREATED:20180222T225445Z
LAST-MODIFIED:20180222T225445Z
UID:13463-1521223200-1521228600@www.pgd-komenda.si
SUMMARY:OBČNI ZBOR GZ KOMENDA
DESCRIPTION:VABILO
URL:https://www.pgd-komenda.si/event/obcni-zbor-gz-komenda/
LOCATION:DOM KRAJANOV ANTONA BREZNIKA KRIŽ\, KRIŽ 3 C\, 1218 KOMENDA\, Slovenija
END:VEVENT
BEGIN:VEVENT
DTSTART;TZID=Africa/Abidjan:20180217T180000
DTEND;TZID=Africa/Abidjan:20180217T193000
DTSTAMP:20260421T043114
CREATED:20180208T192909Z
LAST-MODIFIED:20180208T192909Z
UID:13305-1518890400-1518895800@www.pgd-komenda.si
SUMMARY:124 REDNI (VOLILNI) OBČNI ZBOR
DESCRIPTION:
URL:https://www.pgd-komenda.si/event/124-redni-volilni-obcni-zbor/
LOCATION:GASILSKI DOM\, GLAVARJEVA CESTA 65\, KOMENDA
END:VEVENT
BEGIN:VEVENT
DTSTART;TZID=Africa/Abidjan:20170225T180000
DTEND;TZID=Africa/Abidjan:20170225T200000
DTSTAMP:20260421T043114
CREATED:20170212T114914Z
LAST-MODIFIED:20170212T115017Z
UID:12822-1488045600-1488052800@www.pgd-komenda.si
SUMMARY:OBČNI ZBOR DRUŠTVA 2017
DESCRIPTION:
URL:https://www.pgd-komenda.si/event/obcni-zbor-2017/
LOCATION:GASILSKI DOM\, GLAVARJEVA CESTA 65\, KOMENDA
END:VEVENT
BEGIN:VEVENT
DTSTART;TZID=Africa/Abidjan:20170214T180000
DTEND;TZID=Africa/Abidjan:20170214T190000
DTSTAMP:20260421T043114
CREATED:20170212T115325Z
LAST-MODIFIED:20170212T115325Z
UID:12824-1487095200-1487098800@www.pgd-komenda.si
SUMMARY:OBČNI ZBOR GASILSKE MLADINE 2017
DESCRIPTION:Vabilo
URL:https://www.pgd-komenda.si/event/obcni-zbor-gasilske-mladine-2017/
END:VEVENT
BEGIN:VEVENT
DTSTART;TZID=Africa/Abidjan:20160612T070000
DTEND;TZID=Africa/Abidjan:20160612T170000
DTSTAMP:20260421T043114
CREATED:20160422T045114Z
LAST-MODIFIED:20160422T045114Z
UID:11995-1465714800-1465750800@www.pgd-komenda.si
SUMMARY:Državno gasilsko tekmovanje
DESCRIPTION:Sodelujeta ekipi PIONIRJI in MLADINCI
URL:https://www.pgd-komenda.si/event/drzavno-gasilsko-tekmovanje-2/
LOCATION:STADION BONIFIKA\, KOPER\, Slovenija
END:VEVENT
BEGIN:VEVENT
DTSTART;TZID=Africa/Abidjan:20160611T070000
DTEND;TZID=Africa/Abidjan:20160611T170000
DTSTAMP:20260421T043114
CREATED:20160422T045022Z
LAST-MODIFIED:20160422T045022Z
UID:11993-1465628400-1465664400@www.pgd-komenda.si
SUMMARY:Državno gasilsko tekmovanje
DESCRIPTION:sodeluje naša ekipa ČLANICE A
URL:https://www.pgd-komenda.si/event/drzavno-gasilsko-tekmovanje/
LOCATION:STADION BONIFIKA\, KOPER\, Slovenija
END:VEVENT
BEGIN:VEVENT
DTSTART;TZID=Africa/Abidjan:20160605T070000
DTEND;TZID=Africa/Abidjan:20160605T130000
DTSTAMP:20260421T043114
CREATED:20160422T044628Z
LAST-MODIFIED:20160422T044628Z
UID:11992-1465110000-1465131600@www.pgd-komenda.si
SUMMARY:Občinsko gasilsko tekmovanje
DESCRIPTION:ČLANI \nRazpis občinskega gasilskega tekmovanja 2016
URL:https://www.pgd-komenda.si/event/obcinsko-gasilsko-tekmovanje-2/
LOCATION:STADION MEKINJE\, KAMNIK\, Slovenija
END:VEVENT
BEGIN:VEVENT
DTSTART;TZID=Africa/Abidjan:20160604T070000
DTEND;TZID=Africa/Abidjan:20160604T130000
DTSTAMP:20260421T043114
CREATED:20160422T044445Z
LAST-MODIFIED:20160422T044445Z
UID:11989-1465023600-1465045200@www.pgd-komenda.si
SUMMARY:Občinsko gasilsko tekmovanje
DESCRIPTION:MLADINA IN STAREJŠI GASILCI \nRazpis občinskega gasilskega tekmovanja 2016
URL:https://www.pgd-komenda.si/event/obcinsko-gasilsko-tekmovanje/
LOCATION:STADION MEKINJE\, KAMNIK\, Slovenija
END:VEVENT
BEGIN:VEVENT
DTSTART;TZID=Africa/Abidjan:20160508T140000
DTEND;TZID=Africa/Abidjan:20160508T160000
DTSTAMP:20260421T043114
CREATED:20160422T045934Z
LAST-MODIFIED:20160422T045934Z
UID:11996-1462716000-1462723200@www.pgd-komenda.si
SUMMARY:WINGS FOR LIFE
DESCRIPTION:
URL:https://www.pgd-komenda.si/event/wings-for-life/
END:VEVENT
BEGIN:VEVENT
DTSTART;TZID=Europe/Ljubljana:20160227T180000
DTEND;TZID=Europe/Ljubljana:20160227T200000
DTSTAMP:20260421T043114
CREATED:20160114T211153Z
LAST-MODIFIED:20160114T211233Z
UID:11832-1456596000-1456603200@www.pgd-komenda.si
SUMMARY:Občni zbor PGD Komenda
DESCRIPTION:Občni Zbor PGD Komenda bo v soboto 27. februarja s pričetkom ob 18.00 uri.
URL:https://www.pgd-komenda.si/event/11832/
END:VEVENT
BEGIN:VEVENT
DTSTART;TZID=Africa/Abidjan:20160213T100000
DTEND;TZID=Africa/Abidjan:20160213T111500
DTSTAMP:20260421T043114
CREATED:20160208T113443Z
LAST-MODIFIED:20160208T113444Z
UID:11882-1455357600-1455362100@www.pgd-komenda.si
SUMMARY:PREDSTAVITEV AED
DESCRIPTION:
URL:https://www.pgd-komenda.si/event/predstavitev-aed/
LOCATION:GASILSKI DOM\, GLAVARJEVA CESTA 65\, KOMENDA
END:VEVENT
BEGIN:VEVENT
DTSTART;TZID=Europe/Belgrade:20160208T200000
DTEND;TZID=Europe/Belgrade:20160208T213000
DTSTAMP:20260421T043114
CREATED:20160208T112740Z
LAST-MODIFIED:20160208T113009Z
UID:11877-1454961600-1454967000@www.pgd-komenda.si
SUMMARY:SEJA UO
DESCRIPTION:
URL:https://www.pgd-komenda.si/event/seja-uo/
LOCATION:GASILSKI DOM\, GLAVARJEVA CESTA 65\, KOMENDA
END:VEVENT
END:VCALENDAR