BEGIN:VCALENDAR
VERSION:2.0
PRODID:-//Prostovoljno gasilsko društvo Komenda - ECPv6.15.20//NONSGML v1.0//EN
CALSCALE:GREGORIAN
METHOD:PUBLISH
X-WR-CALNAME:Prostovoljno gasilsko društvo Komenda
X-ORIGINAL-URL:https://www.pgd-komenda.si
X-WR-CALDESC:Dogodki za Prostovoljno gasilsko društvo Komenda
REFRESH-INTERVAL;VALUE=DURATION:PT1H
X-Robots-Tag:noindex
X-PUBLISHED-TTL:PT1H
BEGIN:VTIMEZONE
TZID:Africa/Abidjan
BEGIN:STANDARD
TZOFFSETFROM:+0000
TZOFFSETTO:+0000
TZNAME:GMT
DTSTART:20150101T000000
END:STANDARD
END:VTIMEZONE
BEGIN:VTIMEZONE
TZID:Europe/Ljubljana
BEGIN:DAYLIGHT
TZOFFSETFROM:+0100
TZOFFSETTO:+0200
TZNAME:CEST
DTSTART:20150329T010000
END:DAYLIGHT
BEGIN:STANDARD
TZOFFSETFROM:+0200
TZOFFSETTO:+0100
TZNAME:CET
DTSTART:20151025T010000
END:STANDARD
BEGIN:DAYLIGHT
TZOFFSETFROM:+0100
TZOFFSETTO:+0200
TZNAME:CEST
DTSTART:20160327T010000
END:DAYLIGHT
BEGIN:STANDARD
TZOFFSETFROM:+0200
TZOFFSETTO:+0100
TZNAME:CET
DTSTART:20161030T010000
END:STANDARD
BEGIN:DAYLIGHT
TZOFFSETFROM:+0100
TZOFFSETTO:+0200
TZNAME:CEST
DTSTART:20170326T010000
END:DAYLIGHT
BEGIN:STANDARD
TZOFFSETFROM:+0200
TZOFFSETTO:+0100
TZNAME:CET
DTSTART:20171029T010000
END:STANDARD
END:VTIMEZONE
BEGIN:VTIMEZONE
TZID:Europe/Belgrade
BEGIN:DAYLIGHT
TZOFFSETFROM:+0100
TZOFFSETTO:+0200
TZNAME:CEST
DTSTART:20150329T010000
END:DAYLIGHT
BEGIN:STANDARD
TZOFFSETFROM:+0200
TZOFFSETTO:+0100
TZNAME:CET
DTSTART:20151025T010000
END:STANDARD
BEGIN:DAYLIGHT
TZOFFSETFROM:+0100
TZOFFSETTO:+0200
TZNAME:CEST
DTSTART:20160327T010000
END:DAYLIGHT
BEGIN:STANDARD
TZOFFSETFROM:+0200
TZOFFSETTO:+0100
TZNAME:CET
DTSTART:20161030T010000
END:STANDARD
BEGIN:DAYLIGHT
TZOFFSETFROM:+0100
TZOFFSETTO:+0200
TZNAME:CEST
DTSTART:20170326T010000
END:DAYLIGHT
BEGIN:STANDARD
TZOFFSETFROM:+0200
TZOFFSETTO:+0100
TZNAME:CET
DTSTART:20171029T010000
END:STANDARD
END:VTIMEZONE
BEGIN:VEVENT
DTSTART;TZID=Africa/Abidjan:20160605T070000
DTEND;TZID=Africa/Abidjan:20160605T130000
DTSTAMP:20260421T050323
CREATED:20160422T044628Z
LAST-MODIFIED:20160422T044628Z
UID:11992-1465110000-1465131600@www.pgd-komenda.si
SUMMARY:Občinsko gasilsko tekmovanje
DESCRIPTION:ČLANI \nRazpis občinskega gasilskega tekmovanja 2016
URL:https://www.pgd-komenda.si/event/obcinsko-gasilsko-tekmovanje-2/
LOCATION:STADION MEKINJE\, KAMNIK\, Slovenija
END:VEVENT
BEGIN:VEVENT
DTSTART;TZID=Africa/Abidjan:20160604T070000
DTEND;TZID=Africa/Abidjan:20160604T130000
DTSTAMP:20260421T050323
CREATED:20160422T044445Z
LAST-MODIFIED:20160422T044445Z
UID:11989-1465023600-1465045200@www.pgd-komenda.si
SUMMARY:Občinsko gasilsko tekmovanje
DESCRIPTION:MLADINA IN STAREJŠI GASILCI \nRazpis občinskega gasilskega tekmovanja 2016
URL:https://www.pgd-komenda.si/event/obcinsko-gasilsko-tekmovanje/
LOCATION:STADION MEKINJE\, KAMNIK\, Slovenija
END:VEVENT
BEGIN:VEVENT
DTSTART;TZID=Africa/Abidjan:20160508T140000
DTEND;TZID=Africa/Abidjan:20160508T160000
DTSTAMP:20260421T050323
CREATED:20160422T045934Z
LAST-MODIFIED:20160422T045934Z
UID:11996-1462716000-1462723200@www.pgd-komenda.si
SUMMARY:WINGS FOR LIFE
DESCRIPTION:
URL:https://www.pgd-komenda.si/event/wings-for-life/
END:VEVENT
BEGIN:VEVENT
DTSTART;TZID=Europe/Ljubljana:20160227T180000
DTEND;TZID=Europe/Ljubljana:20160227T200000
DTSTAMP:20260421T050323
CREATED:20160114T211153Z
LAST-MODIFIED:20160114T211233Z
UID:11832-1456596000-1456603200@www.pgd-komenda.si
SUMMARY:Občni zbor PGD Komenda
DESCRIPTION:Občni Zbor PGD Komenda bo v soboto 27. februarja s pričetkom ob 18.00 uri.
URL:https://www.pgd-komenda.si/event/11832/
END:VEVENT
BEGIN:VEVENT
DTSTART;TZID=Africa/Abidjan:20160213T100000
DTEND;TZID=Africa/Abidjan:20160213T111500
DTSTAMP:20260421T050323
CREATED:20160208T113443Z
LAST-MODIFIED:20160208T113444Z
UID:11882-1455357600-1455362100@www.pgd-komenda.si
SUMMARY:PREDSTAVITEV AED
DESCRIPTION:
URL:https://www.pgd-komenda.si/event/predstavitev-aed/
LOCATION:GASILSKI DOM\, GLAVARJEVA CESTA 65\, KOMENDA
END:VEVENT
BEGIN:VEVENT
DTSTART;TZID=Europe/Belgrade:20160208T200000
DTEND;TZID=Europe/Belgrade:20160208T213000
DTSTAMP:20260421T050323
CREATED:20160208T112740Z
LAST-MODIFIED:20160208T113009Z
UID:11877-1454961600-1454967000@www.pgd-komenda.si
SUMMARY:SEJA UO
DESCRIPTION:
URL:https://www.pgd-komenda.si/event/seja-uo/
LOCATION:GASILSKI DOM\, GLAVARJEVA CESTA 65\, KOMENDA
END:VEVENT
END:VCALENDAR